BEGIN:VCALENDAR
VERSION:2.0
PRODID:-//Lisa Maps - ECPv5.14.0.4//NONSGML v1.0//EN
CALSCALE:GREGORIAN
METHOD:PUBLISH
X-WR-CALNAME:Lisa Maps
X-ORIGINAL-URL:https://lisamaps.com
X-WR-CALDESC:Events for Lisa Maps
BEGIN:VTIMEZONE
TZID:Australia/Sydney
BEGIN:STANDARD
TZOFFSETFROM:+1100
TZOFFSETTO:+1000
TZNAME:AEST
DTSTART:20180331T160000
END:STANDARD
BEGIN:DAYLIGHT
TZOFFSETFROM:+1000
TZOFFSETTO:+1100
TZNAME:AEDT
DTSTART:20181006T160000
END:DAYLIGHT
END:VTIMEZONE
BEGIN:VEVENT
DTSTART;TZID=Australia/Sydney:20180414T110000
DTEND;TZID=Australia/Sydney:20180414T130000
DTSTAMP:20260422T021241
CREATED:20180408T012710Z
LAST-MODIFIED:20180409T121028Z
UID:102-1523703600-1523710800@lisamaps.com
SUMMARY:Remedy by Lonsdale St Roasters Kingston Foreshore
DESCRIPTION:Sweet tunes and brunch goodies worth waving goodbye to your house deposit for.
URL:https://lisamaps.com/index.php/event/remedy-by-lonsdale-st-roasters-kingston-foreshore/
LOCATION:Remedy Kingston\, 17 Eastlake Parade\, Kingston\, ACT\, 2604\, Australia
END:VEVENT
END:VCALENDAR