BEGIN:VCALENDAR
VERSION:2.0
PRODID:-//Lisa Maps - ECPv5.14.0.4//NONSGML v1.0//EN
CALSCALE:GREGORIAN
METHOD:PUBLISH
X-WR-CALNAME:Lisa Maps
X-ORIGINAL-URL:https://lisamaps.com
X-WR-CALDESC:Events for Lisa Maps
BEGIN:VTIMEZONE
TZID:Australia/Sydney
BEGIN:STANDARD
TZOFFSETFROM:+1100
TZOFFSETTO:+1000
TZNAME:AEST
DTSTART:20180331T160000
END:STANDARD
BEGIN:DAYLIGHT
TZOFFSETFROM:+1000
TZOFFSETTO:+1100
TZNAME:AEDT
DTSTART:20181006T160000
END:DAYLIGHT
END:VTIMEZONE
BEGIN:VEVENT
DTSTART;TZID=Australia/Sydney:20180408T123000
DTEND;TZID=Australia/Sydney:20180408T160000
DTSTAMP:20260422T003609
CREATED:20180331T093753Z
LAST-MODIFIED:20180331T131842Z
UID:60-1523190600-1523203200@lisamaps.com
SUMMARY:The Old Bus Depot Markets
DESCRIPTION:Come throw some coins in my guitar case\, and be rewarded with sweet\, sweet music! You will find me downstairs between 12:30 and 4:00pm
URL:https://lisamaps.com/index.php/event/lisa-maps-the-old-bus-depot-markets/
LOCATION:The Old Bus Depot Markets\, 21 Wentworth Ave\, Kingston\, ACT\, Australia
END:VEVENT
END:VCALENDAR