BEGIN:VCALENDAR
VERSION:2.0
PRODID:-//Lisa Maps - ECPv5.14.0.4//NONSGML v1.0//EN
CALSCALE:GREGORIAN
METHOD:PUBLISH
X-WR-CALNAME:Lisa Maps
X-ORIGINAL-URL:https://lisamaps.com
X-WR-CALDESC:Events for Lisa Maps
BEGIN:VTIMEZONE
TZID:Australia/Sydney
BEGIN:STANDARD
TZOFFSETFROM:+1100
TZOFFSETTO:+1000
TZNAME:AEST
DTSTART:20190406T160000
END:STANDARD
BEGIN:DAYLIGHT
TZOFFSETFROM:+1000
TZOFFSETTO:+1100
TZNAME:AEDT
DTSTART:20191005T160000
END:DAYLIGHT
END:VTIMEZONE
BEGIN:VEVENT
DTSTART;TZID=Australia/Sydney:20190824T140000
DTEND;TZID=Australia/Sydney:20190824T160000
DTSTAMP:20260421T225716
CREATED:20190815T233142Z
LAST-MODIFIED:20190815T233142Z
UID:386-1566655200-1566662400@lisamaps.com
SUMMARY:Lisa Maps at the Copper Dragon Tavern
DESCRIPTION:Have you been waiting for some live music to come to the tavern? \nWell wait no longer! \nSaturday 24 August\, come and enjoy the acoustic sounds of local musician Lisa Maps\, and hear originals from her new EP\, Colours! \nLisa is a Canberra-based singer-songwriter whose sound grew up among the songwriters of the 90s (early Jewel\, the Waifs) taking in folk\, pop and country influences.
URL:https://lisamaps.com/index.php/event/lisa-maps-at-the-copper-dragon-tavern/
LOCATION:The Copper Dragon Tavern\, 5/38 Reed St N\, Greenway\, ACT\, 2900\, Australia
END:VEVENT
END:VCALENDAR