BEGIN:VCALENDAR
VERSION:2.0
PRODID:-//Lisa Maps - ECPv5.14.0.4//NONSGML v1.0//EN
CALSCALE:GREGORIAN
METHOD:PUBLISH
X-WR-CALNAME:Lisa Maps
X-ORIGINAL-URL:https://lisamaps.com
X-WR-CALDESC:Events for Lisa Maps
BEGIN:VTIMEZONE
TZID:Australia/Sydney
BEGIN:STANDARD
TZOFFSETFROM:+1100
TZOFFSETTO:+1000
TZNAME:AEST
DTSTART:20190406T160000
END:STANDARD
BEGIN:DAYLIGHT
TZOFFSETFROM:+1000
TZOFFSETTO:+1100
TZNAME:AEDT
DTSTART:20191005T160000
END:DAYLIGHT
END:VTIMEZONE
BEGIN:VEVENT
DTSTART;TZID=Australia/Sydney:20190524T123000
DTEND;TZID=Australia/Sydney:20190524T130000
DTSTAMP:20260422T002559
CREATED:20190512T021643Z
LAST-MODIFIED:20190512T021643Z
UID:310-1558701000-1558702800@lisamaps.com
SUMMARY:Lisa Maps at Sugar Sounds
DESCRIPTION:
URL:https://lisamaps.com/index.php/event/lisa-maps-at-sugar-sounds/
LOCATION:Sugar Sounds\, 203A Carp St\, Bega\, NSW\, Australia
END:VEVENT
END:VCALENDAR