BEGIN:VCALENDAR
VERSION:2.0
PRODID:-//Lisa Maps - ECPv5.14.0.4//NONSGML v1.0//EN
CALSCALE:GREGORIAN
METHOD:PUBLISH
X-WR-CALNAME:Lisa Maps
X-ORIGINAL-URL:https://lisamaps.com
X-WR-CALDESC:Events for Lisa Maps
BEGIN:VTIMEZONE
TZID:Australia/Sydney
BEGIN:STANDARD
TZOFFSETFROM:+1100
TZOFFSETTO:+1000
TZNAME:AEST
DTSTART:20190406T160000
END:STANDARD
BEGIN:DAYLIGHT
TZOFFSETFROM:+1000
TZOFFSETTO:+1100
TZNAME:AEDT
DTSTART:20191005T160000
END:DAYLIGHT
END:VTIMEZONE
BEGIN:VEVENT
DTSTART;TZID=Australia/Sydney:20191017T180000
DTEND;TZID=Australia/Sydney:20191017T220000
DTSTAMP:20260423T192559
CREATED:20190930T023012Z
LAST-MODIFIED:20191002T125539Z
UID:405-1571335200-1571349600@lisamaps.com
SUMMARY:Into the Fray Video Launch
DESCRIPTION:My name is Lisa Maps\, and I am a singer-songwriter. And I would like to share one of my songs with you – it’s called Into the Fray. \nSome songs are happiest when played to a live audience\, others come into their own through the recording process. But Into the Fray is a song that has always wanted to be a music video. \nIt has taken a lot of work to give this one what it needed – including some incredible contributions from a wonderful cast – but it’s finally finished\, and I’d love for you to come out and celebrate the achievement with me! \nI’ll be hosting an evening of live music at The Copper Dragon Tavern\, joined by the wonderfully entertaining String Rayz who will be playing us out for the evening. As an added bonus you’ll get to see the behind the scenes video before it hits the worldwide web\, and find out what it took to bring this little masterpiece together! \nTickets are cheap but limited\, so grab one to make sure you don’t miss out (adults $10\, children under 10 free)! Get them here: https://www.trybooking.com/BFSKM
URL:https://lisamaps.com/index.php/event/into-the-fray-video-launch/
LOCATION:The Copper Dragon Tavern\, 5/38 Reed St N\, Greenway\, ACT\, 2900\, Australia
END:VEVENT
END:VCALENDAR