BEGIN:VCALENDAR
VERSION:2.0
PRODID:-//Lisa Maps - ECPv5.14.0.4//NONSGML v1.0//EN
CALSCALE:GREGORIAN
METHOD:PUBLISH
X-WR-CALNAME:Lisa Maps
X-ORIGINAL-URL:https://lisamaps.com
X-WR-CALDESC:Events for Lisa Maps
BEGIN:VTIMEZONE
TZID:Australia/Sydney
BEGIN:STANDARD
TZOFFSETFROM:+1100
TZOFFSETTO:+1000
TZNAME:AEST
DTSTART:20180331T160000
END:STANDARD
BEGIN:DAYLIGHT
TZOFFSETFROM:+1000
TZOFFSETTO:+1100
TZNAME:AEDT
DTSTART:20181006T160000
END:DAYLIGHT
END:VTIMEZONE
BEGIN:VEVENT
DTSTART;TZID=Australia/Sydney:20180616T120000
DTEND;TZID=Australia/Sydney:20180616T233000
DTSTAMP:20260422T003300
CREATED:20180527T004651Z
LAST-MODIFIED:20180527T004651Z
UID:128-1529150400-1529191800@lisamaps.com
SUMMARY:Festival Allsorts #3
DESCRIPTION:Very excited to join the lineup for this year’s Festival Allsorts – put on by Shenanigans Entertainment. I’ll be opening a massive Canberra lineup of 25 bands\, kicking off at 12:30 (doors at 12pm). \nTickets are $30 presale via http://www.moshtix.com.au/v2/event/festival-allsorts-3/103716\, or $35 at the door if not sold out.
URL:https://lisamaps.com/index.php/event/festival-allsorts-3/
LOCATION:The Basement\, 2 Cohen St\, Belconnen\, ACT\, Australia
END:VEVENT
END:VCALENDAR