BEGIN:VCALENDAR
VERSION:2.0
PRODID:-//Lisa Maps - ECPv5.14.0.4//NONSGML v1.0//EN
CALSCALE:GREGORIAN
METHOD:PUBLISH
X-WR-CALNAME:Lisa Maps
X-ORIGINAL-URL:https://lisamaps.com
X-WR-CALDESC:Events for Lisa Maps
BEGIN:VTIMEZONE
TZID:Australia/Sydney
BEGIN:STANDARD
TZOFFSETFROM:+1100
TZOFFSETTO:+1000
TZNAME:AEST
DTSTART:20190406T160000
END:STANDARD
BEGIN:DAYLIGHT
TZOFFSETFROM:+1000
TZOFFSETTO:+1100
TZNAME:AEDT
DTSTART:20191005T160000
END:DAYLIGHT
END:VTIMEZONE
BEGIN:VEVENT
DTSTART;TZID=Australia/Sydney:20190707T133000
DTEND;TZID=Australia/Sydney:20190707T163000
DTSTAMP:20260421T225857
CREATED:20190616T061107Z
LAST-MODIFIED:20190616T061107Z
UID:354-1562506200-1562517000@lisamaps.com
SUMMARY:Country Music Association of Canberra Walkup featuring Lisa Maps
DESCRIPTION:
URL:https://lisamaps.com/index.php/event/country-music-association-of-canberra-walkup-featuring-lisa-maps/
LOCATION:Canberra Irish Club\, 6 Parkinson St\, Weston\, ACT\, Australia
END:VEVENT
END:VCALENDAR